BEGIN:VCALENDAR
VERSION:2.0
PRODID:icalendar-ruby
CALSCALE:GREGORIAN
METHOD:PUBLISH
BEGIN:VEVENT
DTSTAMP:20260424T215457Z
UID:d5ecc79f-952a-42ce-86bc-6083b004c18f
DTSTART;VALUE=DATE:20231114
DTEND;VALUE=DATE:20231114
DESCRIPTION:Shelby Farms BMX
LOCATION:6435 Walnut Grove Rd  Memphis TN 38119 USA
SUMMARY:Local Race Single
URL:/site/bmx_races/533259
END:VEVENT
END:VCALENDAR
