BEGIN:VCALENDAR
VERSION:2.0
PRODID:icalendar-ruby
CALSCALE:GREGORIAN
METHOD:PUBLISH
BEGIN:VEVENT
DTSTAMP:20260425T114246Z
UID:a500197c-0266-4031-a841-4c349f87fb24
DTSTART;VALUE=DATE:20230606
DTEND;VALUE=DATE:20230606
DESCRIPTION:River City BMX
LOCATION:251 Ne Agness  Grants Pass OR 97526 USA
SUMMARY:Local Race Single
URL:/site/bmx_races/532928
END:VEVENT
END:VCALENDAR
