BEGIN:VCALENDAR
VERSION:2.0
PRODID:icalendar-ruby
CALSCALE:GREGORIAN
METHOD:PUBLISH
BEGIN:VEVENT
DTSTAMP:20260425T115812Z
UID:7119bdc7-5792-4857-860c-34371ca9cdfd
DTSTART;VALUE=DATE:20230619
DTEND;VALUE=DATE:20230619
DESCRIPTION:Peninsula Indoor BMX
LOCATION:5867 Dogwood Road Se  Port Orchard WA 98367 USA
SUMMARY:Local Race Single
URL:/site/bmx_races/532489
END:VEVENT
END:VCALENDAR
