BEGIN:VCALENDAR
VERSION:2.0
PRODID:icalendar-ruby
CALSCALE:GREGORIAN
METHOD:PUBLISH
BEGIN:VEVENT
DTSTAMP:20260424T094249Z
UID:3bed80de-1a29-4247-a691-5b338fe448b1
DTSTART;VALUE=DATE:20230516
DTEND;VALUE=DATE:20230516
DESCRIPTION:River City BMX
LOCATION:251 Ne Agness  Grants Pass OR 97526 USA
SUMMARY:Local Race Single
URL:/site/bmx_races/532372
END:VEVENT
END:VCALENDAR
