BEGIN:VCALENDAR
VERSION:2.0
PRODID:icalendar-ruby
CALSCALE:GREGORIAN
METHOD:PUBLISH
BEGIN:VEVENT
DTSTAMP:20260425T024704Z
UID:65ecf95e-3e60-4d5a-8913-292daa0adcdc
DTSTART;VALUE=DATE:20230617
DTEND;VALUE=DATE:20230617
DESCRIPTION:Southern Maryland BMX
LOCATION:26600 Budds Creek Rd  Mechanicsville MD 20659 USA
SUMMARY:Local Race Single
URL:/site/bmx_races/532327
END:VEVENT
END:VCALENDAR
