BEGIN:VCALENDAR
VERSION:2.0
PRODID:icalendar-ruby
CALSCALE:GREGORIAN
METHOD:PUBLISH
BEGIN:VEVENT
DTSTAMP:20260424T113723Z
UID:537894d2-1a67-46de-a350-4924ced1ff38
DTSTART;VALUE=DATE:20230529
DTEND;VALUE=DATE:20230529
DESCRIPTION:Sand Springs BMX
LOCATION:2600 S River City Park Rd  Sand Springs OK 74063 USA
SUMMARY:Local Race Single
URL:/site/bmx_races/532236
END:VEVENT
END:VCALENDAR
