BEGIN:VCALENDAR
VERSION:2.0
PRODID:icalendar-ruby
CALSCALE:GREGORIAN
METHOD:PUBLISH
BEGIN:VEVENT
DTSTAMP:20260424T175254Z
UID:57baea5a-2aa7-4983-aebd-86f89d943364
DTSTART;VALUE=DATE:20230613
DTEND;VALUE=DATE:20230613
DESCRIPTION:Rad Canyon BMX
LOCATION:5200 W 9800 S  West Jordan UT 84081 USA
SUMMARY:BMX Registration Day Single
URL:/site/bmx_races/532066
END:VEVENT
END:VCALENDAR
