BEGIN:VCALENDAR
VERSION:2.0
PRODID:icalendar-ruby
CALSCALE:GREGORIAN
METHOD:PUBLISH
BEGIN:VEVENT
DTSTAMP:20260424T234132Z
UID:a181814d-7151-4c7d-9055-cba41e49ac5f
DTSTART;VALUE=DATE:20231112
DTEND;VALUE=DATE:20231112
DESCRIPTION:Rum River BMX
LOCATION:Isanti Parkway Northwest  Isanti MN 55040 USA
SUMMARY:Local Race Single
URL:/site/bmx_races/532056
END:VEVENT
END:VCALENDAR
