BEGIN:VCALENDAR
VERSION:2.0
PRODID:icalendar-ruby
CALSCALE:GREGORIAN
METHOD:PUBLISH
BEGIN:VEVENT
DTSTAMP:20260424T175250Z
UID:ed6b5c56-e4d5-4d7d-a5f0-b620d89b63b2
DTSTART;VALUE=DATE:20230515
DTEND;VALUE=DATE:20230515
DESCRIPTION:Desoto BMX
LOCATION:Grimes Park 500 E. Centre Park Blvd Desoto TX 75115 USA
SUMMARY:Local Race Single
URL:/site/bmx_races/531687
END:VEVENT
END:VCALENDAR
