BEGIN:VCALENDAR
VERSION:2.0
PRODID:icalendar-ruby
CALSCALE:GREGORIAN
METHOD:PUBLISH
BEGIN:VEVENT
DTSTAMP:20260424T172250Z
UID:fe3b0e21-7458-4652-b09a-844e37cda950
DTSTART;VALUE=DATE:20230524
DTEND;VALUE=DATE:20230524
DESCRIPTION:Dacono BMX
LOCATION:113 Forest Ave  Dacono CO 80514 USA
SUMMARY:Local Race Single
URL:/site/bmx_races/531660
END:VEVENT
END:VCALENDAR
