BEGIN:VCALENDAR
VERSION:2.0
PRODID:icalendar-ruby
CALSCALE:GREGORIAN
METHOD:PUBLISH
BEGIN:VEVENT
DTSTAMP:20260424T113645Z
UID:3904eec3-9013-4dba-a053-3f76c47ac536
DTSTART;VALUE=DATE:20230824
DTEND;VALUE=DATE:20230824
DESCRIPTION:Gallatin Valley BMX
LOCATION: 620 N 5th Ave  Bozeman MT 59715 USA
SUMMARY:Local Race Single
URL:/site/bmx_races/531492
END:VEVENT
END:VCALENDAR
