BEGIN:VCALENDAR
VERSION:2.0
PRODID:icalendar-ruby
CALSCALE:GREGORIAN
METHOD:PUBLISH
BEGIN:VEVENT
DTSTAMP:20260424T101240Z
UID:e4f2af52-4347-4497-99ce-fac2824fbab4
DTSTART;VALUE=DATE:20230806
DTEND;VALUE=DATE:20230806
DESCRIPTION:Gallatin Valley BMX
LOCATION: 620 N 5th Ave  Bozeman MT 59715 USA
SUMMARY:Local Race Single
URL:/site/bmx_races/531484
END:VEVENT
END:VCALENDAR
