BEGIN:VCALENDAR
VERSION:2.0
PRODID:icalendar-ruby
CALSCALE:GREGORIAN
METHOD:PUBLISH
BEGIN:VEVENT
DTSTAMP:20260424T105806Z
UID:ae64db99-8765-453c-8c9f-c5f0e740a73e
DTSTART;VALUE=DATE:20230727
DTEND;VALUE=DATE:20230727
DESCRIPTION:Gallatin Valley BMX
LOCATION: 620 N 5th Ave  Bozeman MT 59715 USA
SUMMARY:Local Race Single
URL:/site/bmx_races/531480
END:VEVENT
END:VCALENDAR
