BEGIN:VCALENDAR
VERSION:2.0
PRODID:icalendar-ruby
CALSCALE:GREGORIAN
METHOD:PUBLISH
BEGIN:VEVENT
DTSTAMP:20260419T153700Z
UID:3dfe3f4e-d32b-47a5-a907-83cc3a07827f
DTSTART;VALUE=DATE:20230628
DTEND;VALUE=DATE:20230628
DESCRIPTION:Green Lake BMX
LOCATION:221 W South Street   Spicer MN 56288 USA
SUMMARY:Race for Life Single
URL:/site/bmx_races/531374
END:VEVENT
END:VCALENDAR
