BEGIN:VCALENDAR
VERSION:2.0
PRODID:icalendar-ruby
CALSCALE:GREGORIAN
METHOD:PUBLISH
BEGIN:VEVENT
DTSTAMP:20260419T153618Z
UID:aae64a03-1f88-4193-bb5b-67fca8016bcb
DTSTART;VALUE=DATE:20230614
DTEND;VALUE=DATE:20230614
DESCRIPTION:Green Lake BMX
LOCATION:221 W South Street   Spicer MN 56288 USA
SUMMARY:Local Race Single
URL:/site/bmx_races/531371
END:VEVENT
END:VCALENDAR
