BEGIN:VCALENDAR
VERSION:2.0
PRODID:icalendar-ruby
CALSCALE:GREGORIAN
METHOD:PUBLISH
BEGIN:VEVENT
DTSTAMP:20260424T201412Z
UID:e2b89686-1f0c-4b20-a483-f2c49067b7f5
DTSTART;VALUE=DATE:20230714
DTEND;VALUE=DATE:20230714
DESCRIPTION:Okeeheelee BMX
LOCATION:8145 Forest Hill Blvd  West Palm Beach FL 33413 USA
SUMMARY:Local Race Single
URL:/site/bmx_races/531349
END:VEVENT
END:VCALENDAR
