BEGIN:VCALENDAR
VERSION:2.0
PRODID:icalendar-ruby
CALSCALE:GREGORIAN
METHOD:PUBLISH
BEGIN:VEVENT
DTSTAMP:20260424T160707Z
UID:56552179-52de-4a48-98d9-a6698e60b039
DTSTART;VALUE=DATE:20230608
DTEND;VALUE=DATE:20230608
DESCRIPTION:White Pine BMX
LOCATION:913 E 16th St  Ely NV 89301 USA
SUMMARY:Local Race Single
URL:/site/bmx_races/531044
END:VEVENT
END:VCALENDAR
