BEGIN:VCALENDAR
VERSION:2.0
PRODID:icalendar-ruby
CALSCALE:GREGORIAN
METHOD:PUBLISH
BEGIN:VEVENT
DTSTAMP:20260425T214205Z
UID:a3cf00a2-cb62-440d-aebd-0ba7eeba06e1
DTSTART;VALUE=DATE:20230712
DTEND;VALUE=DATE:20230712
DESCRIPTION:East Idaho BMX
LOCATION:1450 Pit Road   Pocatello ID 83204 USA
SUMMARY:Local Race Single
URL:/site/bmx_races/530968
END:VEVENT
END:VCALENDAR
