BEGIN:VCALENDAR
VERSION:2.0
PRODID:icalendar-ruby
CALSCALE:GREGORIAN
METHOD:PUBLISH
BEGIN:VEVENT
DTSTAMP:20260424T094101Z
UID:01771125-f562-45a5-9a2b-f98edb5ef217
DTSTART;VALUE=DATE:20230919
DTEND;VALUE=DATE:20230919
DESCRIPTION:Snake River BMX
LOCATION:1860 East 65th South  Idaho Falls ID 83404 USA
SUMMARY:Local Race Single
URL:/site/bmx_races/530846
END:VEVENT
END:VCALENDAR
