BEGIN:VCALENDAR
VERSION:2.0
PRODID:icalendar-ruby
CALSCALE:GREGORIAN
METHOD:PUBLISH
BEGIN:VEVENT
DTSTAMP:20260425T190948Z
UID:c7dc848d-3857-4082-9938-0a3759a0ae7f
DTSTART;VALUE=DATE:20230527
DTEND;VALUE=DATE:20230527
DESCRIPTION:Emerald Valley BMX
LOCATION:2715 Leo Harris Pkwy  Eugene OR 97402 USA
SUMMARY:Local Race Single
URL:/site/bmx_races/530501
END:VEVENT
END:VCALENDAR
