BEGIN:VCALENDAR
VERSION:2.0
PRODID:icalendar-ruby
CALSCALE:GREGORIAN
METHOD:PUBLISH
BEGIN:VEVENT
DTSTAMP:20260424T215417Z
UID:74ac30a1-4653-4809-8bda-c895032d7fa6
DTSTART;VALUE=DATE:20230513
DTEND;VALUE=DATE:20230513
DESCRIPTION:Waterford Oaks BMX
LOCATION:1702 Scott Lake Rd  Waterford MI 48328 USA
SUMMARY:Local Race Single
URL:/site/bmx_races/530026
END:VEVENT
END:VCALENDAR
