BEGIN:VCALENDAR
VERSION:2.0
PRODID:icalendar-ruby
CALSCALE:GREGORIAN
METHOD:PUBLISH
BEGIN:VEVENT
DTSTAMP:20260424T220423Z
UID:1ddf79fd-601a-421c-8c52-6ed075d86371
DTSTART;VALUE=DATE:20230423
DTEND;VALUE=DATE:20230423
DESCRIPTION:St. Peters BMX
LOCATION:100 Brown Rd  St. Peters MO 63376 USA
SUMMARY:Local Race Single
URL:/site/bmx_races/530014
END:VEVENT
END:VCALENDAR
