BEGIN:VCALENDAR
VERSION:2.0
PRODID:icalendar-ruby
CALSCALE:GREGORIAN
METHOD:PUBLISH
BEGIN:VEVENT
DTSTAMP:20260424T160817Z
UID:79e4ef07-5560-4096-9d9a-2a8072ad7b59
DTSTART;VALUE=DATE:20230816
DTEND;VALUE=DATE:20230816
DESCRIPTION:Speedway BMX
LOCATION:5639 Benore  Toledo OH 43612 USA
SUMMARY:Local Race Single
URL:/site/bmx_races/529984
END:VEVENT
END:VCALENDAR
