BEGIN:VCALENDAR
VERSION:2.0
PRODID:icalendar-ruby
CALSCALE:GREGORIAN
METHOD:PUBLISH
BEGIN:VEVENT
DTSTAMP:20260425T011717Z
UID:b25fe26e-6b65-47e5-8922-379fde289681
DTSTART;VALUE=DATE:20230929
DTEND;VALUE=DATE:20230929
DESCRIPTION:Durango BMX
LOCATION:360 S Camino Del Rio\,  Durango CO 81301 USA
SUMMARY:Local Race Single
URL:/site/bmx_races/529693
END:VEVENT
END:VCALENDAR
