BEGIN:VCALENDAR
VERSION:2.0
PRODID:icalendar-ruby
CALSCALE:GREGORIAN
METHOD:PUBLISH
BEGIN:VEVENT
DTSTAMP:20260424T190311Z
UID:be4e5c85-b612-4fee-bb2b-9c70a32132c8
DTSTART;VALUE=DATE:20230804
DTEND;VALUE=DATE:20230804
DESCRIPTION:Speedway BMX
LOCATION:5639 Benore  Toledo OH 43612 USA
SUMMARY:Local Race Single
URL:/site/bmx_races/529613
END:VEVENT
END:VCALENDAR
