BEGIN:VCALENDAR
VERSION:2.0
PRODID:icalendar-ruby
CALSCALE:GREGORIAN
METHOD:PUBLISH
BEGIN:VEVENT
DTSTAMP:20260424T220358Z
UID:9204ee58-321a-4c61-a6e3-eaf974b1eb37
DTSTART;VALUE=DATE:20230327
DTEND;VALUE=DATE:20230327
DESCRIPTION:Apple Valley BMX Moto Park
LOCATION:24320 Highway 18  Apple Valley CA 92307 USA
SUMMARY:Local Race Single
URL:/site/bmx_races/529473
END:VEVENT
END:VCALENDAR
