BEGIN:VCALENDAR
VERSION:2.0
PRODID:icalendar-ruby
CALSCALE:GREGORIAN
METHOD:PUBLISH
BEGIN:VEVENT
DTSTAMP:20260424T084428Z
UID:fd6eb25e-37fe-4a5b-a2a5-05a68875bfd0
DTSTART;VALUE=DATE:20230425
DTEND;VALUE=DATE:20230425
DESCRIPTION:Chehalem Valley BMX
LOCATION:1201 Blaine St  Newberg OR 97132 USA
SUMMARY:Local Race Single
URL:/site/bmx_races/529466
END:VEVENT
END:VCALENDAR
