BEGIN:VCALENDAR
VERSION:2.0
PRODID:icalendar-ruby
CALSCALE:GREGORIAN
METHOD:PUBLISH
BEGIN:VEVENT
DTSTAMP:20260425T142101Z
UID:0a5ee87c-15b5-42c1-8953-12ebf282854c
DTSTART;VALUE=DATE:20230901
DTEND;VALUE=DATE:20230901
DESCRIPTION:Hodag BMX
LOCATION:995 Lynne St  Rhinelander WI 54501 USA
SUMMARY:Warnicke Single
URL:/site/bmx_races/529449
END:VEVENT
END:VCALENDAR
