BEGIN:VCALENDAR
VERSION:2.0
PRODID:icalendar-ruby
CALSCALE:GREGORIAN
METHOD:PUBLISH
BEGIN:VEVENT
DTSTAMP:20260424T172955Z
UID:52472df0-79b7-4ad3-aaaa-5931d7a91f72
DTSTART;VALUE=DATE:20230409
DTEND;VALUE=DATE:20230409
DESCRIPTION:Capitol City BMX
LOCATION:5001 Killingsworth Lane  Pflugerville TX 78660 USA
SUMMARY:Local Race Single
URL:/site/bmx_races/529080
END:VEVENT
END:VCALENDAR
