BEGIN:VCALENDAR
VERSION:2.0
PRODID:icalendar-ruby
CALSCALE:GREGORIAN
METHOD:PUBLISH
BEGIN:VEVENT
DTSTAMP:20260424T141852Z
UID:4d1cf89d-9c10-4b48-8c5d-13b52d786674
DTSTART;VALUE=DATE:20230518
DTEND;VALUE=DATE:20230518
DESCRIPTION:Midland BMX
LOCATION:3950 E Ashman St  Midland MI 48642 USA
SUMMARY:Local Race Single
URL:/site/bmx_races/528929
END:VEVENT
END:VCALENDAR
