BEGIN:VCALENDAR
VERSION:2.0
PRODID:icalendar-ruby
CALSCALE:GREGORIAN
METHOD:PUBLISH
BEGIN:VEVENT
DTSTAMP:20260424T063220Z
UID:d8cbc35e-97b3-46e1-85c2-6869ab3021f0
DTSTART;VALUE=DATE:20230520
DTEND;VALUE=DATE:20230520
DESCRIPTION:Music City BMX Association
LOCATION:2901 Bell Road  Nashville TN 37217 USA
SUMMARY:Earned Double
URL:/site/bmx_races/528468
END:VEVENT
END:VCALENDAR
