BEGIN:VCALENDAR
VERSION:2.0
PRODID:icalendar-ruby
CALSCALE:GREGORIAN
METHOD:PUBLISH
BEGIN:VEVENT
DTSTAMP:20260425T011655Z
UID:3922be1b-a8a9-4a5e-afc6-64a4615fd09e
DTSTART;VALUE=DATE:20230927
DTEND;VALUE=DATE:20230927
DESCRIPTION:Crown Mountain BMX Park
LOCATION:501 Eagle County Drive  El Jebel CO 81623 USA
SUMMARY:Local Race Single
URL:/site/bmx_races/528225
END:VEVENT
END:VCALENDAR
