BEGIN:VCALENDAR
VERSION:2.0
PRODID:icalendar-ruby
CALSCALE:GREGORIAN
METHOD:PUBLISH
BEGIN:VEVENT
DTSTAMP:20260425T024626Z
UID:e998f3eb-2bc9-4f46-8402-09d771c25333
DTSTART;VALUE=DATE:20230322
DTEND;VALUE=DATE:20230322
DESCRIPTION:Sports Park BMX
LOCATION:6901 N Casa Grande Highway  Tucson AZ 85743 USA
SUMMARY:Local Race Single
URL:/site/bmx_races/528156
END:VEVENT
END:VCALENDAR
