BEGIN:VCALENDAR
VERSION:2.0
PRODID:icalendar-ruby
CALSCALE:GREGORIAN
METHOD:PUBLISH
BEGIN:VEVENT
DTSTAMP:20260424T084406Z
UID:28df79fb-38e1-43be-a922-04fb728d1251
DTSTART;VALUE=DATE:20230915
DTEND;VALUE=DATE:20230915
DESCRIPTION:Blue Springs BMX
LOCATION:2715 Nw Park Drive  Blue Springs MO 64015 USA
SUMMARY:Local Race Single
URL:/site/bmx_races/528132
END:VEVENT
END:VCALENDAR
