BEGIN:VCALENDAR
VERSION:2.0
PRODID:icalendar-ruby
CALSCALE:GREGORIAN
METHOD:PUBLISH
BEGIN:VEVENT
DTSTAMP:20260424T065547Z
UID:b9b637ed-e3ba-4837-b0c8-8df610213aca
DTSTART;VALUE=DATE:20230620
DTEND;VALUE=DATE:20230620
DESCRIPTION:Red Hills BMX
LOCATION:1361 N Main  Richfield  UT 84701 USA
SUMMARY:Local Race Single
URL:/site/bmx_races/527922
END:VEVENT
END:VCALENDAR
