BEGIN:VCALENDAR
VERSION:2.0
PRODID:icalendar-ruby
CALSCALE:GREGORIAN
METHOD:PUBLISH
BEGIN:VEVENT
DTSTAMP:20260424T232551Z
UID:b5960c51-e383-4eac-8e4e-26d7ebd6e565
DTSTART;VALUE=DATE:20230401
DTEND;VALUE=DATE:20230402
DESCRIPTION:Hardesty National BMX Stadium
LOCATION:490 N Lansing Ave  Tulsa OK 74120 USA
SUMMARY:Connect 4 Challenge - Saturday Apr 1 -Sunday Apr 2nd
URL:/site/bmx_races/527464
END:VEVENT
END:VCALENDAR
