BEGIN:VCALENDAR
VERSION:2.0
PRODID:icalendar-ruby
CALSCALE:GREGORIAN
METHOD:PUBLISH
BEGIN:VEVENT
DTSTAMP:20260424T220337Z
UID:efbc5309-2b26-4050-be16-43e7136eccee
DTSTART;VALUE=DATE:20230520
DTEND;VALUE=DATE:20230520
DESCRIPTION:Goodyear BMX Raceway
LOCATION:15660 W Roeser Rd  Goodyear AZ 85338 USA
SUMMARY:Local Race Single
URL:/site/bmx_races/526852
END:VEVENT
END:VCALENDAR
