BEGIN:VCALENDAR
VERSION:2.0
PRODID:icalendar-ruby
CALSCALE:GREGORIAN
METHOD:PUBLISH
BEGIN:VEVENT
DTSTAMP:20260424T173503Z
UID:d93915f3-4edd-481a-bc65-a3102df6e7f7
DTSTART;VALUE=DATE:20230706
DTEND;VALUE=DATE:20230706
DESCRIPTION:Rad Canyon BMX
LOCATION:5200 W 9800 S  West Jordan UT 84081 USA
SUMMARY:Local Race Single
URL:/site/bmx_races/526806
END:VEVENT
END:VCALENDAR
