BEGIN:VCALENDAR
VERSION:2.0
PRODID:icalendar-ruby
CALSCALE:GREGORIAN
METHOD:PUBLISH
BEGIN:VEVENT
DTSTAMP:20260424T143931Z
UID:be1e8a72-2d82-4c98-8b65-212392f2cc1b
DTSTART;VALUE=DATE:20230501
DTEND;VALUE=DATE:20230501
DESCRIPTION:NWA BMX
LOCATION:801 Mc Clure Ave  Lowell AR 72745 USA
SUMMARY:Local Race Single
URL:/site/bmx_races/526776
END:VEVENT
END:VCALENDAR
