BEGIN:VCALENDAR
VERSION:2.0
PRODID:icalendar-ruby
CALSCALE:GREGORIAN
METHOD:PUBLISH
BEGIN:VEVENT
DTSTAMP:20260424T125323Z
UID:f54205c7-29f9-4df0-99f5-e6b8f28496f7
DTSTART;VALUE=DATE:20230722
DTEND;VALUE=DATE:20230722
DESCRIPTION:Omaha BMX
LOCATION:11111 W Maple Rd  Omaha NE 68164 USA
SUMMARY:Warnicke Double
URL:/site/bmx_races/526764
END:VEVENT
END:VCALENDAR
