BEGIN:VCALENDAR
VERSION:2.0
PRODID:icalendar-ruby
CALSCALE:GREGORIAN
METHOD:PUBLISH
BEGIN:VEVENT
DTSTAMP:20260425T024425Z
UID:c10f7568-0b65-412e-af4b-cbb1e6759fc4
DTSTART;VALUE=DATE:20230809
DTEND;VALUE=DATE:20230809
DESCRIPTION:Nanaimo BMX
LOCATION:2001 Labieux Road  Nanaimo BC V9T 3K7 CAN
SUMMARY:Local Race Single
URL:/site/bmx_races/525768
END:VEVENT
END:VCALENDAR
