BEGIN:VCALENDAR
VERSION:2.0
PRODID:icalendar-ruby
CALSCALE:GREGORIAN
METHOD:PUBLISH
BEGIN:VEVENT
DTSTAMP:20260424T215346Z
UID:abd33f7e-6dec-4620-8bc9-b407ed871484
DTSTART;VALUE=DATE:20230531
DTEND;VALUE=DATE:20230531
DESCRIPTION:Nanaimo BMX
LOCATION:2001 Labieux Road  Nanaimo BC V9T 3K7 CAN
SUMMARY:Local Race Single
URL:/site/bmx_races/525737
END:VEVENT
END:VCALENDAR
