BEGIN:VCALENDAR
VERSION:2.0
PRODID:icalendar-ruby
CALSCALE:GREGORIAN
METHOD:PUBLISH
BEGIN:VEVENT
DTSTAMP:20260424T141628Z
UID:a41a365c-34fb-41aa-9292-bba76fc8b29b
DTSTART;VALUE=DATE:20230308
DTEND;VALUE=DATE:20230308
DESCRIPTION:Capitol City BMX
LOCATION:5001 Killingsworth Lane  Pflugerville TX 78660 USA
SUMMARY:Local Race Single
URL:/site/bmx_races/525618
END:VEVENT
END:VCALENDAR
