BEGIN:VCALENDAR
VERSION:2.0
PRODID:icalendar-ruby
CALSCALE:GREGORIAN
METHOD:PUBLISH
BEGIN:VEVENT
DTSTAMP:20260424T094137Z
UID:2b872b43-6df8-4d58-b483-97a4007803de
DTSTART;VALUE=DATE:20230612
DTEND;VALUE=DATE:20230612
DESCRIPTION:Pineview Park BMX
LOCATION:6540 Saukview Dr  St. Cloud MN 56303 USA
SUMMARY:Local Race Single
URL:/site/bmx_races/525569
END:VEVENT
END:VCALENDAR
