BEGIN:VCALENDAR
VERSION:2.0
PRODID:icalendar-ruby
CALSCALE:GREGORIAN
METHOD:PUBLISH
BEGIN:VEVENT
DTSTAMP:20260425T003109Z
UID:0ad66d5c-70c3-4e18-88d8-855c274f240d
DTSTART;VALUE=DATE:20230603
DTEND;VALUE=DATE:20230603
DESCRIPTION:Can Am BMX
LOCATION:8345 County Park Rd  Goodells MI 48027 USA
SUMMARY:BMX Registration Day Single
URL:/site/bmx_races/525370
END:VEVENT
END:VCALENDAR
