BEGIN:VCALENDAR
VERSION:2.0
PRODID:icalendar-ruby
CALSCALE:GREGORIAN
METHOD:PUBLISH
BEGIN:VEVENT
DTSTAMP:20260424T233810Z
UID:7cd38d23-9147-468c-9eb6-628228d0eb01
DTSTART;VALUE=DATE:20231108
DTEND;VALUE=DATE:20231108
DESCRIPTION:South Park BMX
LOCATION:800 East Park Drive  Bethel Park PA 15102 USA
SUMMARY:Local Race Single
URL:/site/bmx_races/525335
END:VEVENT
END:VCALENDAR
