BEGIN:VCALENDAR
VERSION:2.0
PRODID:icalendar-ruby
CALSCALE:GREGORIAN
METHOD:PUBLISH
BEGIN:VEVENT
DTSTAMP:20260425T010830Z
UID:179548e2-2bac-4f74-ba54-85a9d60921a0
DTSTART;VALUE=DATE:20230708
DTEND;VALUE=DATE:20230708
DESCRIPTION:Blanchard Woods BMX
LOCATION:4600 Blanchard Woods Drive  Evans GA 30809 USA
SUMMARY:Local Race Single
URL:/site/bmx_races/525250
END:VEVENT
END:VCALENDAR
