BEGIN:VCALENDAR
VERSION:2.0
PRODID:icalendar-ruby
CALSCALE:GREGORIAN
METHOD:PUBLISH
BEGIN:VEVENT
DTSTAMP:20260424T220331Z
UID:f7017436-b658-43fb-b751-ba62f5128907
DTSTART;VALUE=DATE:20230720
DTEND;VALUE=DATE:20230720
DESCRIPTION:Kamloops BMX
LOCATION:200  1550 Ord Rd   Kamloops BC V2B1N3 CAN
SUMMARY:Local Race Single
URL:/site/bmx_races/525192
END:VEVENT
END:VCALENDAR
