BEGIN:VCALENDAR
VERSION:2.0
PRODID:icalendar-ruby
CALSCALE:GREGORIAN
METHOD:PUBLISH
BEGIN:VEVENT
DTSTAMP:20260425T024500Z
UID:5cef47e0-1ecb-4abc-adbc-b058e50791ed
DTSTART;VALUE=DATE:20231022
DTEND;VALUE=DATE:20231022
DESCRIPTION:County Line BMX
LOCATION:8560 South Colorado Blvd  Centennial CO 80126 USA
SUMMARY:Local Race Single
URL:/site/bmx_races/524786
END:VEVENT
END:VCALENDAR
