BEGIN:VCALENDAR
VERSION:2.0
PRODID:icalendar-ruby
CALSCALE:GREGORIAN
METHOD:PUBLISH
BEGIN:VEVENT
DTSTAMP:20260424T202324Z
UID:fbc773e9-2ae3-45fe-9824-c020dd6fb8b9
DTSTART;VALUE=DATE:20230422
DTEND;VALUE=DATE:20230422
DESCRIPTION:Cape Coral BMX
LOCATION:1410 Sw 6th Place  Cape Coral FL 33991 USA
SUMMARY:Local Race Single
URL:/site/bmx_races/524391
END:VEVENT
END:VCALENDAR
